BEGIN:VCALENDAR
PRODID:-//Microsoft Corporation//Outlook 14.0 MIMEDIR//EN
VERSION:2.0	
METHOD:PUBLISH
BEGIN:VEVENT
UID:261ffa3881ae063193a0544280f315d8www.massotherapeutes.qc.ca
DTSTAMP:20260421T221615Z
DTSTART:2026-11-14T00:00:0000Z
DTEND:2026-11-28T00:00:0000Z
SUMMARY:Drainage lymphatique manuel de base DRA-312
LOCATION:147, BOUL. SIR WILFRID LAURIER (ROUTE 116) ST-BASILE-LE-GRAND, QUÉBEC J3N 1A9
DESCRIPTION:Vous apprendrez à stimuler le système lymphatique afin d’accélérer l’élimination des déchets, virus, bactéries et l’accumulation de liquide dans le corps. Aide la guérison et la remise en forme de plusieurs conditions telles que : entorse, foulure, goutte, fatigue chronique, oedème, lourdeur, etc.
END:VEVENT
END:VCALENDAR