BEGIN:VCALENDAR
PRODID:-//Microsoft Corporation//Outlook 14.0 MIMEDIR//EN
VERSION:2.0	
METHOD:PUBLISH
BEGIN:VEVENT
UID:41da7b76ca8658be4ce8fe5b2e0b0498www.massotherapeutes.qc.ca
DTSTAMP:20260423T094625Z
DTSTART:2026-04-08T00:00:0000Z
DTEND:2026-04-29T00:00:0000Z
SUMMARY:Massage Circulatoire (Décongestionnant) CIR-321
LOCATION:147, BOUL. SIR WILFRID LAURIER (ROUTE 116) ST-BASILE-LE-GRAND, QUÉBEC J3N 1A9
DESCRIPTION:Réduire l’engorgement dans les tissus pour faciliter l’absorption des nutriments et l’évacuation des déchets ce qui réduira les adhérences et les amas graisseux. Nous donnerons de la souplesse et de la mobilité articulaire, aide à réduire oedème et donne une plus belle apparence à la peau. Technique pour soulager les varices et aussi technique de massage pour préparer le sportif à l’action.
END:VEVENT
END:VCALENDAR